BEGIN:VCALENDAR
VERSION:2.0
PRODID:-//Soundproofed - ECPv6.15.20//NONSGML v1.0//EN
CALSCALE:GREGORIAN
METHOD:PUBLISH
X-WR-CALNAME:Soundproofed
X-ORIGINAL-URL:https://soundproofed.com.au
X-WR-CALDESC:Events for Soundproofed
REFRESH-INTERVAL;VALUE=DURATION:PT1H
X-Robots-Tag:noindex
X-PUBLISHED-TTL:PT1H
BEGIN:VTIMEZONE
TZID:UTC
BEGIN:STANDARD
TZOFFSETFROM:+0000
TZOFFSETTO:+0000
TZNAME:UTC
DTSTART:20200101T000000
END:STANDARD
END:VTIMEZONE
BEGIN:VEVENT
DTSTART;VALUE=DATE:20210417
DTEND;VALUE=DATE:20210418
DTSTAMP:20260424T145015
CREATED:20210223T053118Z
LAST-MODIFIED:20210223T053118Z
UID:650-1618624800-1618703999@soundproofed.com.au
SUMMARY:Private Function
DESCRIPTION:
URL:https://soundproofed.com.au/?tribe_events=private-function
END:VEVENT
END:VCALENDAR