BEGIN:VCALENDAR
VERSION:2.0
PRODID:-//Soundproofed - ECPv6.15.20//NONSGML v1.0//EN
CALSCALE:GREGORIAN
METHOD:PUBLISH
X-ORIGINAL-URL:https://soundproofed.com.au
X-WR-CALDESC:Events for Soundproofed
REFRESH-INTERVAL;VALUE=DURATION:PT1H
X-Robots-Tag:noindex
X-PUBLISHED-TTL:PT1H
BEGIN:VTIMEZONE
TZID:UTC
BEGIN:STANDARD
TZOFFSETFROM:+0000
TZOFFSETTO:+0000
TZNAME:UTC
DTSTART:20250101T000000
END:STANDARD
END:VTIMEZONE
BEGIN:VEVENT
DTSTART;TZID=UTC:20260425T210000
DTEND;TZID=UTC:20260426T000000
DTSTAMP:20260423T225356
CREATED:20260110T002355Z
LAST-MODIFIED:20260309T034956Z
UID:1111-1777150800-1777161600@soundproofed.com.au
SUMMARY:Riverstone Schofields Memorial Club - All Aussie
DESCRIPTION:
URL:https://soundproofed.com.au/?tribe_events=riverstone-schofields-memorial-club-covers-show
LOCATION:Riverstone Schofields Memorial Club\, 23 Market Street\, Riverstone\, NSW\, 2765\, Australia
CATEGORIES:"Äussie As"
END:VEVENT
BEGIN:VEVENT
DTSTART;TZID=UTC:20260502T203000
DTEND;TZID=UTC:20260502T233000
DTSTAMP:20260423T225356
CREATED:20260210T235214Z
LAST-MODIFIED:20260210T235214Z
UID:1131-1777753800-1777764600@soundproofed.com.au
SUMMARY:South Hurstville RSL - 80's Rewind
DESCRIPTION:
URL:https://soundproofed.com.au/?tribe_events=south-hurstville-rsl-80s-rewind
LOCATION:South Hurstville RSL\, 72 Connells Point Rd\, South Hurstville\, NSW\, 2221\, Australia
CATEGORIES:80's Rewind
END:VEVENT
BEGIN:VEVENT
DTSTART;TZID=UTC:20260509T200000
DTEND;TZID=UTC:20260509T230000
DTSTAMP:20260423T225356
CREATED:20260116T012048Z
LAST-MODIFIED:20260116T012048Z
UID:1121-1778356800-1778367600@soundproofed.com.au
SUMMARY:Penrith Gaels Club - 80's Rewind
DESCRIPTION:
URL:https://soundproofed.com.au/?tribe_events=penrith-gaels-club-80s-rewind-5
LOCATION:Penrith Gaels Club\, 75 Richmond Road\, Kingswood\, NSW\, 2747\, Australia
CATEGORIES:80's Rewind
END:VEVENT
BEGIN:VEVENT
DTSTART;TZID=UTC:20260522T203000
DTEND;TZID=UTC:20260522T233000
DTSTAMP:20260423T225356
CREATED:20260219T043148Z
LAST-MODIFIED:20260219T043148Z
UID:1135-1779481800-1779492600@soundproofed.com.au
SUMMARY:Revesby Workers Club - Covers Show
DESCRIPTION:
URL:https://soundproofed.com.au/?tribe_events=revesby-workers-club-covers-show
LOCATION:Revesby Workers Club\, 2B Brett St\, Revesby\, NSW\, 2212\, Australia
CATEGORIES:Covers
END:VEVENT
BEGIN:VEVENT
DTSTART;TZID=UTC:20260530T200000
DTEND;TZID=UTC:20260530T223000
DTSTAMP:20260423T225356
CREATED:20260110T003003Z
LAST-MODIFIED:20260110T003022Z
UID:1113-1780171200-1780180200@soundproofed.com.au
SUMMARY:Henry Sports Club - 80's Rewind
DESCRIPTION:
URL:https://soundproofed.com.au/?tribe_events=henry-sports-80s-rewind
LOCATION:Henry Sports Club\, 144 Henry Lawson Ave\, Werrington County\, 2747\, Australia
CATEGORIES:80's Rewind
END:VEVENT
BEGIN:VEVENT
DTSTART;TZID=UTC:20260613T200000
DTEND;TZID=UTC:20260613T230000
DTSTAMP:20260423T225356
CREATED:20260208T234658Z
LAST-MODIFIED:20260209T002818Z
UID:1126-1781380800-1781391600@soundproofed.com.au
SUMMARY:Jamison Hotel - 80's Rewind
DESCRIPTION:
URL:https://soundproofed.com.au/?tribe_events=jamison-hotel-covers-show-2
LOCATION:Jamison Hotel\, 186 Smith Street\, Penrith\, NSW\, 2750\, Australia
CATEGORIES:80's Rewind
END:VEVENT
BEGIN:VEVENT
DTSTART;TZID=UTC:20260620T200000
DTEND;TZID=UTC:20260620T230000
DTSTAMP:20260423T225356
CREATED:20260311T011110Z
LAST-MODIFIED:20260311T011110Z
UID:1146-1781985600-1781996400@soundproofed.com.au
SUMMARY:Pendle Inn Hotel - Covers Show
DESCRIPTION:
URL:https://soundproofed.com.au/?tribe_events=pendle-inn-hotel-covers-show
LOCATION:Pendle Inn Hotel\, 223 Wentworth Ave\, Pendle Hill\, NSW\, 2145\, Australia
CATEGORIES:Covers
END:VEVENT
BEGIN:VEVENT
DTSTART;TZID=UTC:20260627T210000
DTEND;TZID=UTC:20260628T000000
DTSTAMP:20260423T225356
CREATED:20260110T003358Z
LAST-MODIFIED:20260110T003413Z
UID:1119-1782594000-1782604800@soundproofed.com.au
SUMMARY:Oatley Hotel - 80's Rewind
DESCRIPTION:
URL:https://soundproofed.com.au/?tribe_events=oatley-hotel-80s-rewind-9
LOCATION:Oatley Hotel\, 12 Oatley Avenue\, Oatley\, Australia
CATEGORIES:80's Rewind
END:VEVENT
BEGIN:VEVENT
DTSTART;TZID=UTC:20261017T190000
DTEND;TZID=UTC:20261017T230000
DTSTAMP:20260423T225356
CREATED:20260309T040012Z
LAST-MODIFIED:20260309T040012Z
UID:1144-1792263600-1792278000@soundproofed.com.au
SUMMARY:Private Function
DESCRIPTION:
URL:https://soundproofed.com.au/?tribe_events=private-function-3
LOCATION:NSW
END:VEVENT
BEGIN:VEVENT
DTSTART;TZID=UTC:20261231T080000
DTEND;TZID=UTC:20270101T000000
DTSTAMP:20260423T225356
CREATED:20260309T035831Z
LAST-MODIFIED:20260309T035831Z
UID:1140-1798704000-1798761600@soundproofed.com.au
SUMMARY:St Marys Diggers Club - 80's Rewind
DESCRIPTION:
URL:https://soundproofed.com.au/?tribe_events=st-marys-diggers-club-80s-rewind
LOCATION:St Marys Diggers\, Cnr Mamre Rd & Hall St\, St Marys\, NSW\, 2760\, Australia
CATEGORIES:80's Rewind
END:VEVENT
END:VCALENDAR