BEGIN:VCALENDAR
VERSION:2.0
PRODID:-//Soundproofed - ECPv5.4.0//NONSGML v1.0//EN
CALSCALE:GREGORIAN
METHOD:PUBLISH
X-WR-CALNAME:Soundproofed
X-ORIGINAL-URL:https://soundproofed.com.au
X-WR-CALDESC:Events for Soundproofed
BEGIN:VTIMEZONE
TZID:UTC
BEGIN:STANDARD
TZOFFSETFROM:+0000
TZOFFSETTO:+0000
TZNAME:UTC
DTSTART:20200101T000000
END:STANDARD
TZID:Australia/Sydney
BEGIN:STANDARD
TZOFFSETFROM:+1100
TZOFFSETTO:+1000
TZNAME:AEST
DTSTART:20200404T160000
END:STANDARD
BEGIN:DAYLIGHT
TZOFFSETFROM:+1000
TZOFFSETTO:+1100
TZNAME:AEDT
DTSTART:20201003T160000
END:DAYLIGHT
END:VTIMEZONE
BEGIN:VEVENT
DTSTART;VALUE=DATE:20210417
DTEND;VALUE=DATE:20210418
DTSTAMP:20210225T082933
CREATED:20210223T053118Z
LAST-MODIFIED:20210223T053118Z
UID:650-1618617600-1618703999@soundproofed.com.au
SUMMARY:Private Function
DESCRIPTION:
URL:https://soundproofed.com.au/?tribe_events=private-function
END:VEVENT
BEGIN:VEVENT
DTSTART;TZID=UTC:20210312T210000
DTEND;TZID=UTC:20210313T000000
DTSTAMP:20210225T082933
CREATED:20210223T052747Z
LAST-MODIFIED:20210223T052747Z
UID:646-1615582800-1615593600@soundproofed.com.au
SUMMARY:Colonial Hotel
DESCRIPTION:
URL:https://soundproofed.com.au/?tribe_events=colonial-hotel
LOCATION:Colonial Hotel\, 156 Victoria St\, Werrington\, NSW\, 2747\, Australia
END:VEVENT
BEGIN:VEVENT
DTSTART;TZID=UTC:20200822T200000
DTEND;TZID=UTC:20200822T200000
DTSTAMP:20210225T082933
CREATED:20200416T070806Z
LAST-MODIFIED:20200416T070806Z
UID:359-1598126400-1598126400@soundproofed.com.au
SUMMARY:Magpies - Soundproofed '80's Rewind
DESCRIPTION:
URL:https://soundproofed.com.au/?tribe_events=magpies-soundproofed-80s-rewind
LOCATION:Waitara Leagues Club\, 11-37 Alexandria Parade\, Waitara\, Australia
CATEGORIES:80's Rewind
END:VEVENT
BEGIN:VEVENT
DTSTART;TZID=UTC:20200626T210000
DTEND;TZID=UTC:20200626T210000
DTSTAMP:20210225T082933
CREATED:20200416T070055Z
LAST-MODIFIED:20200416T070407Z
UID:353-1593205200-1593205200@soundproofed.com.au
SUMMARY:Penrith RSL - Soundproofed 80's Rewind
DESCRIPTION:
URL:https://soundproofed.com.au/?tribe_events=penrith-rsl-soundproofed-80s-rewind
LOCATION:Penrith RSL\, 8 Tindale Street\, Penrith\, Australia
CATEGORIES:80's Rewind
END:VEVENT
BEGIN:VEVENT
DTSTART;TZID=UTC:20200620T210000
DTEND;TZID=UTC:20200620T210000
DTSTAMP:20210225T082933
CREATED:20200409T055341Z
LAST-MODIFIED:20200416T070249Z
UID:302-1592686800-1592686800@soundproofed.com.au
SUMMARY:Oatley Hotel - Soundproofed '80's Rewind
DESCRIPTION:
URL:https://soundproofed.com.au/?tribe_events=oatley-hotel
LOCATION:Oatley Hotel\, 12 Oatley Avenue\, Oatley\, Australia
CATEGORIES:80's Rewind
END:VEVENT
BEGIN:VEVENT
DTSTART;TZID=Australia/Sydney:20200523T210000
DTEND;TZID=Australia/Sydney:20200523T210000
DTSTAMP:20210225T082933
CREATED:20200409T054800Z
LAST-MODIFIED:20200416T070339Z
UID:299-1590267600-1590267600@soundproofed.com.au
SUMMARY:Twin Creeks Golf Club - Soundproofed '80's Rewind
DESCRIPTION:
URL:https://soundproofed.com.au/?tribe_events=twin-creeks-golf-club
LOCATION:Twin Creeks Golf Club\, 2/8 Twin Creeks Drive\, Luddenham\, Australia
CATEGORIES:80's Rewind
END:VEVENT
END:VCALENDAR